Workbook

Sheet 宿泊確認書
B1: サニックスCup国際新体操団体選手権2026 宿泊・食事・日帰り施設使用料 申込書
D4: 色塗りつぶしエリアをご記入ください
B6: チーム名 | H6: 代表者名
B7: 連絡先TEL | H7: メール
B8: 住所 | D8: 〒
B9: 到着日時 | D9: 2026年 １１月 | H9: 日、 | I9: ： | M9: 時頃
B10: 出発日時 | D10: 2026年 １１月 | H10: 日、 | I10: ： | M10: 時頃
B11: 移動手段 | D11: マイクロバス | F11: 台 | G11: 自家用車 | J11: 台 | K11: 貸切バス | N11: 台
D12: 公共交通 | I12: その他
B14: 宿泊者数 | D14: 45981 | G14: 45982 | J14: 45983 | M14: 45984
D15: (金) | G15: (土) | J15: (日) | M15: (月祝)
B16: 選手 （ロッジ 大部屋） | C16: 小学生以下 3,850円（金・月祝） 4,620円（土・日）
C17: 中高生 4,620円（金・月祝） 5,390円（土・日）
C18: 大学生・大人 5,170円（金・月祝） 5,940円（土・日）
B19: 引率者 スタッフ | C19: 性別・添い寝 | D19: 女性 | E19: 男性 | F19: 添寝 | G19: 女性 | H19: 男性 | I19: 添寝 | J19: 女性 | K19: 男性 | L19: 添寝 | M19: 女性 | N19: 男性 | O19: 添寝
C20: A棟シングル 9,350円（金・月祝） 10,120円（土・日）
C21: A棟ツイン 7,590円（金・月祝） 8,360円（土・日）
C22: クラブハウス シングル 8,250円（金・月祝） 9,020円（土・日）
C23: クラブハウス ツイン 6,490円（金・月祝） 7,260円（土・日）
C24: レジデンス 28,600円（金・月祝） 31,680円（土）
C25: エキストラベット 3,850円（金・月祝） 4,620円（土・日）
B26: 合計 | D26: =IF(SUM(D16:F18,D20:E25)=0,"",SUM(D16:F18,D20:E25)) | F26: =IF(SUM(F20:F25)=0,"",SUM(F20:F25)) | G26: =IF(SUM(G16:I18,G20:H25)=0,"",SUM(G16:I18,G20:H25)) | I26: =IF(SUM(I20:I25)=0,"",SUM(I20:I25)) | J26: =IF(SUM(J16:L18,J20:K25)=0,"",SUM(J16:L18,J20:K25)) | L26: =IF(SUM(L20:L25)=0,"",SUM(L20:L25)) | M26: =IF(SUM(M16:O18,M20:N25)=0,"",SUM(M16:O18,M20:N25)) | O26: =IF(SUM(O20:O25)=0,"",SUM(O20:O25))
B27: ※ お部屋はご希望に添えないこともございます。予めご了承ください。
B28: ※ 福岡県宿泊税が、200円/１人/1泊で別途掛かります
B29: ※ ロッジ大部屋は歯ブラシ・シャンプーセット・バスタオル・タオル等はご持参いただきますようお願い致します
B31: 食事数 | D31: 45981 | G31: 45982 | J31: 45983 | L31: 45984 | N31: 45985
D32: (金) | G32: (土) | J32: (日) | L32: (月・祝) | N32: (火)
B33: 朝食(食堂） 990円
B34: 昼食（弁当）
B35: 夕食（食堂） 1,320円
B36: 監督・コーチ懇親会 | D36: 11/20日（金）、19:00～ 和食さくら | J36: 2,200円
B37: ※ お弁当お申込書は別途メニュー表をお送りします
B38: ※ 11月20日(金）19:30～和食処さくらにて、コーチ懇親会を予定しております
B40: アレルギー等の有無 | E40: 有 | F40: FALSE | G40: 無 | H40: FALSE | I40: （いずれかの□をクリックして、✓をつけてください）
B42: ※ アレルギー等「有」の方は別紙アレルギー調査票を11月6日(金）までにご提出ください | J42: アレルギー調査票はこちら
B46: 日帰り施設利用料 | D46: 11/21 (土) | E46: 11/22 (日) | G46: 金額小計 | J46: ※ 宿泊でのご参加チームにについては日帰り利 用料は必要ありません ※ コーチ、監督は日帰り料金は発生しません ※ 日帰り施設利用料は、大会期間中にグローバ ルアリーナのフロントにてお支払いください
B47: 小学生以下 1,000円 | G47: =IF(SUM(D47:F47)=0,"",SUM(D47:F47)*1000)
B48: 中学生以上 1,500円 | G48: =IF(SUM(D48:F48)=0,"",SUM(D48:F48)*1500)
B49: 人数小計 | D49: =IF(SUM(D47:D48)=0,"",SUM(D47:D48)) | E49: =IF(SUM(E47:E48)=0,"",SUM(E47:E48))
B50: 人数合計 | D50: =IF(SUM(D49:F49)=0,"",SUM(D49:F49)) | G50: 金額合計 | H50: =IF(SUM(G47:H48)=0,"",SUM(G47:H48))
...

Sheet 宿泊食事申込書 (修正分)
B2: サニックスCup国際新体操団体選手権2024 | AH2: 受付日
AH3: 最終変更
B4: 個 別 請 書 | T4: 担当 | Y4: 入力 | AD4: 精算情報
B5: 顧客 Ｉ Ｄ | X5: / | AC5: / | AD5: 請求 ／ クレジット
B6: 予約番号 | AD6: 請求書宛名
B7: 日時 | H7: 2024年 | L7: =宿泊確認書!P9 -> 0 | P7: =L7 -> 0 | R7: ～ | T7: =宿泊確認書!P10 -> 0 | X7: =T7 -> 0 | Z7: =T7-L7 -> 0 | AB7: 泊 | AD7: 請求書送り先
B9: 顧客名 | H9: フリガナ | AD9: 売掛 | AG9: 宛名
H10: =宿泊確認書!D6 -> 0 | AG10: 請求先 | AJ10: 一般財団法人サニックススポーツ振興財団
AG11: 懇親会 | AJ11: 3300 | AM11: × | AN11: =S76 -> 0 | AQ11: 人 | AR11: =AJ11*AN11 -> 0
B12: 住所 | H12: =宿泊確認書!D8 -> 〒
H13: =宿泊確認書!F8 -> 0
B14: 申込者 連絡先 | H14: 氏名 | J14: =宿泊確認書!J6 -> 0 | T14: 携帯 | V14: =宿泊確認書!D7 -> 0 | AD14: エージェント情報
H15: メール | J15: =宿泊確認書!J7 -> 0 | AD15: 社 名 | AO15: 担当者 | BG15: クラブハウス シングル | BH15: 8470
B16: 移動手段 | T16: アーリー C/I | AD16: 住 所 | AG16: 〒 | BC16: ロッジ（大部屋） | BD16: 4840 | BG16: クラブハウス ツイン | BH16: 6710
B17: GA到着日時 | T17: GA出発 | AD17: 携帯 | BC17: 雑魚寝 | BD17: 3740 | BG17: A棟 シングル | BH17: 9570
B18: 宿泊者人数＆性別 | AD18: 日付 | AG18: 宿泊タイプ | AO18: 単価 | AT18: 数量 | BC18: クラブハウス個室（ シングル） | BD18: 8470 | BG18: A棟 ツイン | BH18: 7810
B19: 日付 | D19: ロッジ | P19: 個室 | Z19: 合計 | AO19: =IFERROR(_xlfn.XLOOKUP(AG19,$BC$16:$BC$27,$BD$16:$BD$27),"") | BC19: クラブハウス個室（ ツイン） | BD19: 6710 | BG19: レジデンス 3ベット | BH19: 29480
D20: 小以下 | G20: 小 | J20: 中高 | M20: 大人 | P20: 女性 | T20: 男性 | AO20: =IFERROR(_xlfn.XLOOKUP(AG20,$BC$16:$BC$27,$BD$16:$BD$27),"") | BC20: A棟（個室） シングル | BD20: 9570 | BG20: レジデンス ４ベット | BH20: 29480
B21: =宿泊確認書!D14 -> 45981 | D21: =IF(B21="","",宿泊確認書!D16) -> 0 | G21: =IF(B21="","",宿泊確認書!#REF!) -> #REF! | J21: =IF(B21="","",宿泊確認書!D17) -> 0 | M21: =IF(B21="","",宿泊確認書!D18) -> 0 | P21: =IF(B21="","",SUM(宿泊確認書!D20:D25)) -> 0 | T21: =IF(B21="","",SUM(宿泊確認書!#REF!)) -> #REF! | X21: =IF(SUM(宿泊確認書!F20:F25)=0,"") | Z21: =IF(B21="","",SUM(D21:W21)) -> #REF! | AO21: =IFERROR(_xlfn.XLOOKUP(AG21,$BC$16:$BC$27,$BD$16:$BD$27),"") | BC21: A棟 （個室）ツイン | BD21: 7810
B22: =IF(宿泊確認書!G14="","",宿泊確認書!G14) -> 45982 | D22: =IF(B22="","",宿泊確認書!G16) -> 0 | G22: =IF(B22="","",宿泊確認書!#REF!) -> #REF! | J22: =IF(B22="","",宿泊確認書!G17) -> 0 | M22: =IF(B22="","",宿泊確認書!G18) -> 0 | P22: =IF(B22="","",SUM(宿泊確認書!G20:G25)) -> 0 | T22: =IF(B22="","",SUM(宿泊確認書!#REF!)) -> #REF! | X22: =IF(SUM(宿泊確認書!H20:H25)=0,"") | Z22: =IF(SUM(G22:W22)=0,"",SUM(G22:W22)) -> #REF! | AO22: =IFERROR(_xlfn.XLOOKUP(AG22,$BC$16:$BC$27,$BD$16:$BD$27),"") | BC22: ロッジ（個室） シングル | BD22: 8470
B23: =IF(宿泊確認書!J14="","",宿泊確認書!J14) -> 45983 | D23: =IF(B23="","",宿泊確認書!J16) -> 0 | G23: =IF(B23="","",宿泊確認書!#REF!) -> #REF! | J23: =IF(B23="","",宿泊確認書!J17) -> 0 | M23: =IF(B23="","",宿泊確認書!J18) -> 0 | P23: =IF(B23="","",SUM(宿泊確認書!I20:I25)) -> 0 | T23: =IF(B23="","",SUM(宿泊確認書!#REF!)) -> #REF! | X23: =IF(SUM(宿泊確認書!J20:J25)=0,"") | Z23: =IF(SUM(G23:W23)=0,"",SUM(G23:W23)) -> #REF! | AO23: =IFERROR(_xlfn.XLOOKUP(AG23,$BC$16:$BC$27,$BD$16:$BD$27),"") | BC23: ロッジ（個室）ツイン | BD23: 6710
B24: =IF(宿泊確認書!M14="","",宿泊確認書!M14) -> 45984 | D24: =IF(B24="","",宿泊確認書!M16) -> 0 | G24: =IF(B24="","",宿泊確認書!#REF!) -> #REF! | J24: =IF(B24="","",宿泊確認書!M17) -> 0 | M24: =IF(B24="","",宿泊確認書!M18) -> 0 | P24: =IF(B24="","",SUM(宿泊確認書!K20:K25)) -> 0 | T24: =IF(B24="","",SUM(宿泊確認書!#REF!)) -> #REF! | X24: =IF(SUM(宿泊確認書!L20:L25)=0,"") | Z24: =IF(SUM(G24:W24)=0,"",SUM(G24:W24)) -> #REF! | AO24: =IFERROR(_xlfn.XLOOKUP(AG24,$BC$16:$BC$27,$BD$16:$BD$27),"") | BC24: レジデンス 3ベット | BD24: 29480
B25: =IF(宿泊確認書!P14="","",宿泊確認書!P14) | P25: =IF(B25="","",SUM(宿泊確認書!M20:M25)) | T25: =IF(B25="","",SUM(宿泊確認書!#REF!)) | X25: =IF(SUM(宿泊確認書!N20:N25)=0,"") | Z25: =IF(SUM(G25:W25)=0,"",SUM(G25:W25)) | AO25: =IFERROR(_xlfn.XLOOKUP(AG25,$BC$16:$BC$27,$BD$16:$BD$27),"") | BC25: レジデンス ４ベット | BD25: 29480
AO26: =IFERROR(_xlfn.XLOOKUP(AG26,$BC$16:$BC$27,$BD$16:$BD$27),"") | BC26: エキストラベット | BD26: 4070
AO27: =IFERROR(_xlfn.XLOOKUP(AG27,$BC$16:$BC$27,$BD$16:$BD$27),"") | BC27: 宿泊税 | BD27: 200
AO28: =IFERROR(_xlfn.XLOOKUP(AG28,$BC$16:$BC$27,$BD$16:$BD$27),"")
AO29: =IFERROR(_xlfn.XLOOKUP(AG29,$BC$16:$BC$27,$BD$16:$BD$27),"")
AO30: =IFERROR(_xlfn.XLOOKUP(AG30,$BC$16:$BC$27,$BD$16:$BD$27),"")
AO31: =IFERROR(_xlfn.XLOOKUP(AG31,$BC$16:$BC$27,$BD$16:$BD$27),"")
AO32: =IFERROR(_xlfn.XLOOKUP(AG32,$BC$16:$BC$27,$BD$16:$BD$27),"")
AO33: =IFERROR(_xlfn.XLOOKUP(AG33,$BC$16:$BC$27,$BD$16:$BD$27),"")
AO34: =IFERROR(_xlfn.XLOOKUP(AG34,$BC$16:$BC$27,$BD$16:$BD$27),"")
AO35: =IFERROR(_xlfn.XLOOKUP(AG35,$BC$16:$BC$27,$BD$16:$BD$27),"")
AO36: =IFERROR(_xlfn.XLOOKUP(AG36,$BC$16:$BC$27,$BD$16:$BD$27),"")
AO37: =IFERROR(_xlfn.XLOOKUP(AG37,$BC$16:$BC$27,$BD$16:$BD$27),"")
AO38: =IFERROR(_xlfn.XLOOKUP(AG38,$BC$16:$BC$27,$BD$16:$BD$27),"")
AO39: =IFERROR(_xlfn.XLOOKUP(AG39,$BC$16:$BC$27,$BD$16:$BD$27),"")
B40: 備考
B48: 料飲予約情報 | AK48: 食事アレルギー ／ 禁忌食
B49: 日付 | F49: 食堂朝食 （770円） | Q49: 食堂弁当 | AA49: 食堂夕食（990円） | AK49: =IF(宿泊確認書!F40,"有","無") -> 無 | AV49: 人
...

Sheet アレルギー表
A1: 除去食に関するグローバルアリーナからのお願い
I2: （記入年月日） | O2: 年 | Q2: 月 | S2: 日
A3: ◆安心・安全なお食事をご提供するため、下記をご理解いただいたうえで、本調査票にご記入ください。
A4: 【記入例はグローバルアリーナホームページ（https://global-arena.org）に掲載しています。ご確認ください】
A5: ① ご宿泊の10日前までに調査票をご提出ください。（期限を過ぎた場合は、対応いたしかねます）
A6: ② アレルギーや疾患、宗教上の都合などにより、やむを得ず食べられない方のみが対象となります。好き嫌い等はご遠慮ください。
A7: ③ 除去食の対応は、団体食堂「ノーサイド」とお弁当のみの対応となります。その他のお食事では対応しておりません。
A8: ※重篤な場合や、食堂での提供が難しいと判断した場合は、持ち込み食をお願いすることがございます。予めご了承ください。
A9: ※野外炊飯時に使用するカレーは、ホームページに成分表を掲載しております。ご確認ください。
A11: お客様情報記入欄 | C11: ※アレルギーについて十分理解している方（本人または保護者等）の連絡先をご記入ください。
A12: フリガナ | H12: 学校名／団体名
A13: 氏名 | H13: クラス | M13: 年 | O13: 組 | S13: 科
A14: 年齢 | H14: 電話番号
A15: ご利用日 | H15: メールアドレス
A16: ※ご相談されたい方は、メールにて問い合わせをお願いいたします。（allergy@g-arena.com）
A17: ◆どのような理由で除去食をご希望ですか？〇をつけてください。
A18: アレルギー | C18: ハラル食※ | G18: 特別食※ （宗教/思想/疾患等） | J18: 特別食理由
J19: ※特別食材・別調理のため別途料金をいただきます。
A20: ◆症状の出る原材料ごとに記入し、食べられる範囲と、希望する対応に〇をつけてください。
A21: 【特定原材料】 卵、乳、小麦、そば、落花生、えび、かに、くるみ 【特定原材料に準ずるもの】 アーモンド、あわび、いか、いくら、オレンジ、カシューナッツ、キウイフルーツ、牛肉、ごま、さけ、さば、大豆、鶏肉、バナナ、豚肉、まつたけ、もも、やまいも、りんご、ゼラチン ※上記アレルギー28品目のみの対応に限ります | K21: ノーサイドでは、『ナッツ類、生卵、そば』はメニューで提供していません。しかし、調理器具や食器に関しては、施設内で共有して調理しています。洗浄して使用致しますが、コンタミネーションについてはご理解の上、ご利用ください。
A23: 除去食物 | C23: 対応 | G23: 可・及び不可のどちらかに全て〇を記入ください。 ※左記の特定原材料以外に該当がある場合は下の空欄にご記入ください。
A24: 卵 | C24: A | D24: B | E24: C | F24: D | G24: 加熱させたもの | I24: 可 | K24: 不可 | M24: つなぎ | P24: 可 | R24: 不可
G25: ふりかけ | I25: 可 | K25: 不可 | M25: マヨネーズ | P25: 可 | R25: 不可
G26: 調理油を分ける必要 | I26: 有 | K26: 無
A27: 乳 | C27: A | D27: B | E27: C | F27: D | G27: 生乳 | I27: 可 | K27: 不可 | M27: 牛乳を加熱させたもの | P27: 可 | R27: 不可
G28: つなぎ | I28: 可 | K28: 不可 | M28: 乳成分 | P28: 可 | R28: 不可
G29: 調理油を分ける必要 | I29: 有 | K29: 無
A30: 小麦 | C30: A | D30: B | E30: C | F30: D | G30: 醤油 | I30: 可 | K30: 不可 | M30: みそ | P30: 可 | R30: 不可
G31: 揚げ物の衣 | I31: 可 | K31: 不可 | M31: 料理酒 | P31: 可 | R31: 不可
G32: 調理油を分ける必要 | I32: 有 | K32: 無
A33: えび | C33: A | D33: B | E33: C | F33: D | G33: そのもの | I33: 可 | K33: 不可 | M33: 調味料（エキス） | P33: 可 | R33: 不可
G34: 調理油を分ける必要 | I34: 有 | K34: 無
A35: ごま | C35: A | D35: B | E35: C | F35: D | G35: そのもの | I35: 可 | K35: 不可 | M35: ごま油 | P35: 可 | R35: 不可
G36: 調理油を分ける必要 | I36: 有 | K36: 無
A37: 大豆 | C37: A | D37: B | E37: C | F37: D | G37: そのもの | I37: 可 | K37: 不可 | M37: みそ | P37: 可 | R37: 不可
G38: 醤油 | I38: 可 | K38: 不可 | M38: 調理油を分ける必要 | P38: 有 | R38: 無
C39: A | D39: B | E39: C | F39: D
C41: A | D41: B | E41: C | F41: D
C43: A | D43: B | E43: C | F43: D
C45: A | D45: B | E45: C | F45: D
...

Sheet アレルギー表記入例(アレルギー・宗教)
A1: 記 入 例 | E1: 除去食に関するグローバルアリーナからのお願い
M2: （記入年月日） | Q2: 2024 | S2: 年 | T2: 4 | U2: 月 | V2: 1 | W2: 日
E3: ◆安心・安全なお食事をご提供するため、下記をご理解いただいたうえで、本調査票にご記入ください。
E4: 【記入例はグローバルアリーナホームページ（https://global-arena.org）に掲載しています。ご確認ください】
E5: ① ご宿泊の10日前までに調査票をご提出ください。（期限を過ぎた場合は、対応いたしかねます）
E6: ② アレルギーや疾患、宗教上の都合などにより、やむを得ず食べられない方のみが対象となります。好き嫌い等はご遠慮ください。
E7: ③ 除去食の対応は、団体食堂「ノーサイド」とお弁当のみの対応となります。その他のお食事では対応しておりません。
E8: ※重篤な場合や、食堂での提供が難しいと判断した場合は、持ち込み食をお願いすることがございます。予めご了承ください。
E9: ※野外炊飯時に使用するカレーは、ホームページに成分表を掲載しております。ご確認ください。
E11: お客様情報記入欄 | G11: ※アレルギーについて十分理解している方（本人または保護者等）の連絡先をご記入ください。
E12: フリガナ | G12: ムナカタ タロウ | L12: 学校名／団体名 | P12: グローバル学校
E13: 氏名 | G13: 宗像 太郎 | L13: クラス | P13: 1 | Q13: 年 | R13: 1 | S13: 組 | T13: 普通 | W13: 科
E14: 年齢 | G14: 10歳 | L14: 電話番号 | P14: 〇〇〇-〇〇〇〇-〇〇〇〇
E15: ご利用日 | G15: 2024/4/15～4/16 | L15: メールアドレス | P15: ××××＠××××
E16: ※ご相談されたい方は、メールにて問い合わせをお願いいたします。（allergy@g-arena.com）
E17: ◆どのような理由で除去食をご希望ですか？〇をつけてください。
E18: アレルギー | G18: ハラル食※ | K18: 特別食※ （宗教/思想/疾患等） | N18: 特別食理由
E19: ● | G19: ● | N19: ※特別食材・別調理のため別途料金をいただきます。
E20: ◆症状の出る原材料ごとに記入し、食べられる範囲と、希望する対応に〇をつけてください。
E21: 【特定原材料】 卵、乳、小麦、そば、落花生、えび、かに、くるみ 【特定原材料に準ずるもの】 アーモンド、あわび、いか、いくら、オレンジ、カシューナッツ、キウイフルーツ、牛肉、ごま、さけ、さば、大豆、鶏肉、バナナ、豚肉、まつたけ、もも、やまいも、りんご、ゼラチン ※上記アレルギー28品目のみの対応に限ります | O21: ノーサイドでは、『ナッツ類、生卵、そば』はメニューで提供していません。しかし、調理器具や食器に関しては、施設内で共有して調理しています。洗浄して使用致しますが、コンタミネーションについてはご理解の上、ご利用ください。
E23: 除去食物 | G23: 対応 | K23: 可・及び不可のどちらかに全て〇を記入ください。 ※左記の特定原材料以外に該当がある場合は下の空欄にご記入ください。
E24: 卵 | G24: A | H24: B | I24: C | J24: D | K24: 加熱させたもの | M24: 可 | O24: 不可 | P24: ● | Q24: つなぎ | T24: 可 | V24: 不可 | W24: ●
G25: ● | K25: ふりかけ | M25: 可 | O25: 不可 | P25: ● | Q25: マヨネーズ | T25: 可 | V25: 不可 | W25: ●
K26: 調理油を分ける必要 | M26: 有 | N26: ● | O26: 無
E27: 乳 | G27: A | H27: B | I27: C | J27: D | K27: 生乳 | M27: 可 | O27: 不可 | P27: ● | Q27: 牛乳を加熱させたもの | T27: 可 | U27: ● | V27: 不可
I28: ● | K28: つなぎ | M28: 可 | N28: ● | O28: 不可 | Q28: 乳成分 | T28: 可 | U28: ● | V28: 不可
K29: 調理油を分ける必要 | M29: 有 | O29: 無 | P29: ●
E30: 小麦 | G30: A | H30: B | I30: C | J30: D | K30: 醤油 | M30: 可 | O30: 不可 | Q30: みそ | T30: 可 | V30: 不可
K31: 揚げ物の衣 | M31: 可 | O31: 不可 | Q31: 料理酒 | T31: 可 | V31: 不可
K32: 調理油を分ける必要 | M32: 有 | O32: 無
E33: えび | G33: A | H33: B | I33: C | J33: D | K33: そのもの | M33: 可 | O33: 不可 | P33: ● | Q33: 調味料（エキス） | T33: 可 | U33: ● | V33: 不可
J34: ● | K34: 調理油を分ける必要 | M34: 有 | O34: 無 | P34: ●
E35: ごま | G35: A | H35: B | I35: C | J35: D | K35: そのもの | M35: 可 | O35: 不可 | Q35: ごま油 | T35: 可 | V35: 不可
K36: 調理油を分ける必要 | M36: 有 | O36: 無
E37: 大豆 | G37: A | H37: B | I37: C | J37: D | K37: そのもの | M37: 可 | O37: 不可 | Q37: みそ | T37: 可 | V37: 不可
K38: 醤油 | M38: 可 | O38: 不可 | Q38: 調理油を分ける必要 | T38: 有 | V38: 無
E39: りんご | G39: A | H39: B | I39: C | J39: D | K39: 生は食べられませんが、ソースやエキスに入っているものは食べられます。 加熱したものは食べられます。
I40: ●
E41: 豚肉 | G41: A | H41: B | I41: C | J41: D | K41: 豚肉はすべて除去でお願いします。その他の肉はハラル認証付のみ食べられます。
G42: ●
...
