{"text_format":"1","workbook":"xlsx","n_sheets":9,"sheets":["参加申込書","双葉キッズ ","三つ葉キッズ","チャイルド低学年","チャイルド高学年","チャイルド団体徒手・フープ ","ジュニア団体ボール5","シニア団体フープ5","シニア団体リボン3ボール2"],"not_rendered":{"charts":0,"images":0,"macros":1,"external_links":0,"defined_names":9,"comments":0,"pivot_tables":0},"unopened":[],"bounds":{"document_bytes":16777216,"sheet_cells":100000,"rows_first":2000,"rows_last":500,"rows_between":2000,"halvings":0,"cell_chars":16384,"cell_head_chars":4096},"cells_cut":0,"cells_raw":0,"read":"whole","date_system":"1900"}

{"sheet":"参加申込書","index":0,"n_rows":44,"n_cols":22,"rows_kept":44,"cut":false,"hidden":false,"merged":[[43,0,43,17],[0,0,0,17],[5,0,5,2],[14,5,14,6],[10,0,11,2],[5,3,5,8],[5,9,5,10],[4,9,4,10],[13,9,13,10],[11,3,11,4],[13,7,13,8],[12,7,12,8],[7,3,7,8],[12,9,12,10],[11,5,11,17],[9,3,9,8],[10,3,10,4],[8,0,9,2],[6,0,7,2],[6,4,6,8],[8,4,8,8],[8,9,9,10],[8,11,8,17],[6,11,7,17],[12,0,15,2],[6,9,7,10],[13,3,13,4],[12,3,12,4],[14,9,14,10],[14,3,14,4],[12,5,12,6],[13,5,13,6],[4,11,4,17],[5,11,5,17],[10,5,10,8],[14,7,14,8],[19,9,19,10],[20,9,20,10],[21,9,21,10],[22,9,22,10],[23,9,23,10],[24,9,24,10],[15,3,15,4],[27,6,27,7],[22,3,22,5],[23,3,23,5],[20,3,20,5],[22,6,22,7],[23,6,23,7],[20,6,20,7],[21,6,21,7],[15,5,15,6],[25,9,25,10],[15,7,15,8],[42,0,42,17],[19,0,19,2],[33,0,33,2],[35,6,35,7],[33,6,33,7],[35,3,35,5],[33,3,33,5],[19,3,19,5],[24,6,24,7],[25,6,25,7],[36,3,36,5],[36,6,36,7],[33,8,33,9],[34,3,34,5],[34,8,34,9],[35,8,35,9],[36,8,36,9],[34,6,34,7],[26,3,26,5],[21,3,21,5],[19,6,19,7],[38,13,38,14],[40,15,40,16],[40,13,40,14],[28,15,28,16],[15,9,15,10],[9,11,9,17],[10,11,10,17],[35,13,35,14],[36,13,36,14],[37,13,37,14],[26,9,26,10],[27,9,27,10],[28,12,28,13],[24,12,24,13],[25,12,25,13],[26,12,26,13],[23,12,23,13],[29,15,29,16],[29,12,29,13],[33,13,33,14],[34,13,34,14],[10,9,10,10],[16,3,16,17],[24,3,24,5],[25,3,25,5],[27,3,27,5],[26,6,26,7]]}
["サニックスCUP国際新体操団体選手権2022　参加申込書"]
[]
[null,"※ご記入上の注意:　",null,null,null,null,"のところのみにご記入ください。それ以外のところはロックがかかってますので変更できません。"]
[]
[null,null,null,null,null,null,null,null,null,"記入日"]
["チーム名",null,null,null,null,null,null,null,null,"チーム名\n（英語表記）"]
["監督名",null,null,"フリガナ",null,null,null,null,null,"所属団体名"]
[]
["コーチ名",null,null,"フリガナ",null,null,null,null,null,"住所",null,"〒"]
[]
["連 絡 先",null,null,"携帯",null,null,null,null,null,"FAX"]
[null,null,null,"　E-Mail"]
["参加種目\n  （〇を記入）",null,null,"双葉キッズ",null,"三つ葉キッズ",null,"チャイルド低学年\nボール4～6",null,"チャイルド高学年\nボール2～4・リボン2"]
[]
[null,null,null,"チャイルド団体\n徒手・フープ",null,"ジュニア団体\nボール5",null,"シニア団体\nフープ5",null,"シニア団体\nリボン3・ボール2"]
[]
[null,null,null,"※参加各種目ごとに、別シート（種目別の申込書）の記入もお願いします。"]
[null,null,null,"※チーム名はパンフレットに記載されます。"]
[]
["大会参加費",null,null,"種目",null,null,"参加費",null,"参加\nチーム数","計",null,null,"日帰り施設利用料"]
[null,null,null,"双葉キッズ",null,null,10000,null,null,{"$f":"G21*I21","v":0},null,null,"※宿泊でのご参加チームにについては日帰り利用料は"]
[null,null,null,"三つ葉キッズ",null,null,10000,null,null,{"$f":"G22*I22","v":0},null,null,"   必要ありません。"]
[null,null,null,"チャイルド低学年団体　\nボール4～6",null,null,20000,null,null,{"$f":"G23*I23","v":0},null,null,"※コーチ、監督は日帰り料金は発生しません。"]
[null,null,null,"チャイルド高学年団体　\nボール2～4・リボン2",null,null,20000,null,null,0,null,null,null,null,"18日","19日","20日","合計"]
[null,null,null,"チャイルド団体\n徒手・フープ",null,null,20000,null,null,0,null,null,"小学生以下\n1,000円",null,null,null,null,{"$f":"SUM(O25:Q25)*1000","v":0}]
[null,null,null,"ジュニア団体\nボール5",null,null,20000,null,null,0,null,null,"中学生以上\n1,500円",null,null,null,null,{"$f":"SUM(O26:Q26)*1500","v":0}]
[null,null,null,"シニア団体\nフープ5",null,null,20000,null,null,{"$f":"G27*I27","v":0},null,null,"合計",null,{"$f":"SUM(O25:O26)","v":0},{"$f":"SUM(P25:P26)","v":0},0,{"$f":"SUM(R25:R26)","v":0}]
[null,null,null,"シニア団体\nリボン3・ボール2",null,null,20000,null,null,{"$f":"G28*I28","v":0}]
[null,null,null,null,null,null,null,null,null,null,null,null,"チーム数合計",null,{"$f":"SUM(I21:I28)","v":0},{"$f":"SUM(J21:K28)","v":0}]
[null,null,null,null,null,null,null,null,null,null,null,null,"日帰り人数合計",null,{"$f":"SUM(O27:Q27)","v":0},{"$f":"R27","v":0}]
[null,null,null,"※全種目に「同じチーム名」で参加できます。ただし各種目内で「同じチーム名」での複数参加はできません。"]
[null,null,null,"※各種目に複数チーム参加の場合は、「別のチーム名」で参加申込書も別に記入してください。"]
[]
["帯同審判",null,null,"氏名",null,null,"ふりがな",null,"審判資格（種）",null,null,null,null,"必要審判人数"]
[null,null,null,null,null,null,null,null,"1種　・　2種",null,null,null,null,{"$f":"MAX(I21:I28)","v":0}]
[null,null,null,null,null,null,null,null,"1種　・　2種",null,null,null,null,"帯同審判人数"]
[null,null,null,null,null,null,null,null,"1種　・　2種",null,null,null,null,{"$f":"V37","v":0},null,null,null,null,{"$f":"IF(ISTEXT(D35),\"1\",\"0\")","v":"0"},{"$f":"IF(ISTEXT(D36),\"1\",\"0\")","v":"0"},{"$f":"IF(ISTEXT(D37),\"1\",\"0\")","v":"0"},{"$f":"S37+T37+U37","v":0}]
[null,null,null,"※審判の出せないチームは、審判負担金として15,000円/1チームを負担してください。",null,null,null,null,null,null,null,null,null,"審判負担金　合計"]
[null,null,null,null,null,null,null,null,null,null,null,null,null,{"$f":"(N35*15000)-(N37*15000)","v":0}]
[]
[null,null,null,null,null,null,null,null,null,null,null,null,null,"振込金合計",null,{"$f":"SUM(P29+P30+N39)","v":0}]
[]
["※参加チーム数等の変更時は都度この申込書を送ってください。間違いのもとになるため、お電話での変更はご遠慮ください。"]
["メールアドレス　sanixcup@g-arena.com"]

{"sheet":"双葉キッズ ","index":1,"n_rows":30,"n_cols":5,"rows_kept":30,"cut":false,"hidden":false,"merged":[[6,5,6,6],[7,2,7,3],[8,2,8,3],[27,0,27,4],[28,0,28,4],[29,0,29,4],[0,0,0,4],[1,0,1,4],[2,1,2,3],[6,2,6,3]]}
["サニックスCUP国際新体操団体選手権2022"]
["双葉キッズ申込書"]
[null,"※ご記入上の注意：　色付きのセルは記入、削除しないでください。　"]
[null,null,null,"記入日"]
[]
[]
[null,"チーム名",{"$f":"IF(参加申込書!D6=\"\",\"\",参加申込書!D6)","v":""}]
[null,"監督名",{"$f":"IF(参加申込書!D8=\"\",\"\",参加申込書!D8)","v":""}]
[null,"コーチ名",{"$f":"IF(参加申込書!D10=\"\",\"\",参加申込書!D10)","v":""}]
[]
[null,"双葉キッズ"]
[null,"選手名","ふりがな","生年月日","年令"]
[1]
[2]
[3]
[4]
[5]
[6]
[7]
[8]
[9]
[10]
[11]
[12]
[13]
[14]
[15]
[]
["※選手名、ふりがなは姓名の間を一文字空けてください。"]
["申込へ戻る"]

{"sheet":"三つ葉キッズ","index":2,"n_rows":30,"n_cols":5,"rows_kept":30,"cut":false,"hidden":false,"merged":[[27,0,27,4],[28,0,28,4],[29,0,29,4],[0,0,0,4],[1,0,1,4],[2,1,2,3],[6,2,6,3],[7,2,7,3],[8,2,8,3]]}
["サニックスCUP国際新体操団体選手権2022"]
["三つ葉キッズ申込書"]
[null,"※ご記入上の注意：　色付きのセルは記入、削除しないでください。　"]
[null,null,null,"記入日"]
[]
[]
[null,"チーム名",{"$f":"IF(参加申込書!D6=\"\",\"\",参加申込書!D6)","v":""}]
[null,"監督名",{"$f":"IF(参加申込書!D8=\"\",\"\",参加申込書!D8)","v":""}]
[null,"コーチ名",{"$f":"IF(参加申込書!D10=\"\",\"\",参加申込書!D10)","v":""}]
[]
[null,"三つ葉キッズ"]
[null,"選手名","ふりがな","生年月日","年令"]
[1]
[2]
[3]
[4]
[5]
[6]
[7]
[8]
[9]
[10]
[11]
[12]
[13]
[14]
[15]
[]
["※選手名、ふりがなは姓名の間を一文字空けてください。"]
["申込へ戻る"]

{"sheet":"チャイルド低学年","index":3,"n_rows":23,"n_cols":5,"rows_kept":23,"cut":false,"hidden":false,"merged":[[0,0,0,4],[2,1,2,3],[22,0,22,4],[1,0,1,4],[6,2,6,3],[7,2,7,3],[8,2,8,3],[20,0,20,4],[21,0,21,4]]}
["サニックスCUP国際新体操団体選手権2022"]
["チャイルド低学年団体　ボール4～6申込書"]
[null,"※ご記入上の注意：　色付きのセルは記入、削除しないでください。　"]
[null,null,null,"記入日"]
[null,null,null,{"$f":"IF(参加申込書!M5=\"\",\"\",参加申込書!M5)","v":""}]
[]
[null,"チーム名",{"$f":"IF(参加申込書!D6=\"\",\"\",参加申込書!D6)","v":""}]
[null,"監督名",{"$f":"IF(参加申込書!D8=\"\",\"\",参加申込書!D8)","v":""}]
[null,"コーチ名",{"$f":"IF(参加申込書!D10=\"\",\"\",参加申込書!D10)","v":""}]
[]
[null,"チャイルド低学年団体　ボール4～6"]
[null,"選手名","ふりがな","生年月日","年令"]
[1]
[2]
[3]
[4]
[5]
[6]
["予"]
["予"]
[]
["※選手名、ふりがなは姓名の間を一文字空けてください。"]
["申込へ戻る"]

{"sheet":"チャイルド高学年","index":4,"n_rows":23,"n_cols":5,"rows_kept":23,"cut":false,"hidden":false,"merged":[[22,0,22,4],[0,0,0,4],[2,1,2,3],[1,0,1,4],[6,2,6,3],[7,2,7,3],[8,2,8,3],[20,0,20,4],[21,0,21,4]]}
["サニックスCUP国際新体操団体選手権2022"]
["チャイルド高学年団体　ボール2～4・リボン2申込書"]
[null,"※ご記入上の注意：　色付きのセルは記入、削除しないでください。　"]
[null,null,null,"記入日"]
[null,null,null,{"$f":"IF(参加申込書!M5=\"\",\"\",参加申込書!M5)","v":""}]
[]
[null,"チーム名",{"$f":"IF(参加申込書!D6=\"\",\"\",参加申込書!D6)","v":""}]
[null,"監督名",{"$f":"IF(参加申込書!D8=\"\",\"\",参加申込書!D8)","v":""}]
[null,"コーチ名",{"$f":"IF(参加申込書!D10=\"\",\"\",参加申込書!D10)","v":""}]
[]
[null,"チャイルド高学年団体 ボール2～4・リボン2"]
[null,"選手名","ふりがな","生年月日","年令"]
[1]
[2]
[3]
[4]
[5]
[6]
["予"]
["予"]
[]
["※選手名、ふりがなは姓名の間を一文字空けてください。"]
["申込へ戻る"]

{"sheet":"チャイルド団体徒手・フープ ","index":5,"n_rows":23,"n_cols":5,"rows_kept":23,"cut":false,"hidden":false,"merged":[[8,2,8,3],[20,0,20,4],[22,0,22,4],[21,0,21,4],[0,0,0,4],[2,1,2,3],[1,0,1,4],[6,2,6,3],[7,2,7,3]]}
["サニックスCUP国際新体操団体選手権2022"]
["チャイルド団体　徒手・フープ申込書"]
[null,"※ご記入上の注意：　色付きのセルは記入、削除しないでください。　"]
[null,null,null,"記入日"]
[null,null,null,{"$f":"IF(参加申込書!M5=\"\",\"\",参加申込書!M5)","v":""}]
[]
[null,"チーム名",{"$f":"IF(参加申込書!D6=\"\",\"\",参加申込書!D6)","v":""}]
[null,"監督名",{"$f":"IF(参加申込書!D8=\"\",\"\",参加申込書!D8)","v":""}]
[null,"コーチ名",{"$f":"IF(参加申込書!D10=\"\",\"\",参加申込書!D10)","v":""}]
[]
[null,"チャイルド団体徒手・フープ"]
[null,"選手名","ふりがな","生年月日","年令"]
[1]
[2]
[3]
[4]
[5]
[6]
["予"]
["予"]
[]
["※選手名、ふりがなは姓名の間を一文字空けてください。"]
["申込へ戻る"]

{"sheet":"ジュニア団体ボール5","index":6,"n_rows":22,"n_cols":5,"rows_kept":22,"cut":false,"hidden":false,"merged":[[0,0,0,4],[1,0,1,4],[2,1,2,3],[6,2,6,3],[7,2,7,3],[19,0,19,4],[20,0,20,4],[21,0,21,4],[22,0,22,4],[8,2,8,3]]}
["サニックスCUP国際新体操団体選手権2022"]
["ジュニア団体　ボール5申込書"]
[null,"※ご記入上の注意：　色付きのセルは記入、削除しないでください。　"]
[null,null,null,"記入日"]
[null,null,null,{"$f":"IF(参加申込書!M5=\"\",\"\",参加申込書!M5)","v":""}]
[]
[null,"チーム名",{"$f":"IF(参加申込書!D6=\"\",\"\",参加申込書!D6)","v":""}]
[null,"監督名",{"$f":"IF(参加申込書!D8=\"\",\"\",参加申込書!D8)","v":""}]
[null,"コーチ名",{"$f":"IF(参加申込書!D10=\"\",\"\",参加申込書!D10)","v":""}]
[]
[null,"ジュニア団体　ボール5"]
[null,"選手名","ふりがな","生年月日","年令"]
[1]
[2]
[3]
[4]
[5]
["予"]
["予"]
[]
["※選手名、ふりがなは姓名の間を一文字空けてください。"]
["申込へ戻る"]

{"sheet":"シニア団体フープ5","index":7,"n_rows":22,"n_cols":5,"rows_kept":22,"cut":false,"hidden":false,"merged":[[19,0,19,4],[20,0,20,4],[21,0,21,4],[22,0,22,4],[8,2,8,3],[0,0,0,4],[1,0,1,4],[2,1,2,3],[6,2,6,3],[7,2,7,3]]}
["サニックスCUP国際新体操団体選手権2022"]
["シニア団体　フープ5"]
[null,"※ご記入上の注意：　色付きのセルは記入、削除しないでください。　"]
[null,null,null,"記入日"]
[null,null,null,{"$f":"IF(参加申込書!M5=\"\",\"\",参加申込書!M5)","v":""}]
[]
[null,"チーム名",{"$f":"IF(参加申込書!D6=\"\",\"\",参加申込書!D6)","v":""}]
[null,"監督名",{"$f":"IF(参加申込書!D8=\"\",\"\",参加申込書!D8)","v":""}]
[null,"コーチ名",{"$f":"IF(参加申込書!D10=\"\",\"\",参加申込書!D10)","v":""}]
[]
[null,"シニア団体　フープ5"]
[null,"選手名","ふりがな","生年月日","年令"]
[1]
[2]
[3]
[4]
[5]
["予"]
["予"]
[]
["※選手名、ふりがなは姓名の間を一文字空けてください。"]
["申込へ戻る"]

{"sheet":"シニア団体リボン3ボール2","index":8,"n_rows":22,"n_cols":5,"rows_kept":22,"cut":false,"hidden":false,"merged":[[19,0,19,4],[20,0,20,4],[21,0,21,4],[22,0,22,4],[8,2,8,3],[0,0,0,4],[1,0,1,4],[2,1,2,3],[6,2,6,3],[7,2,7,3]]}
["サニックスCUP国際新体操団体選手権2022"]
["シニア団体　リボン３・ボール2"]
[null,"※ご記入上の注意：　色付きのセルは記入、削除しないでください。　"]
[null,null,null,"記入日"]
[null,null,null,{"$f":"IF(参加申込書!M5=\"\",\"\",参加申込書!M5)","v":""}]
[]
[null,"チーム名",{"$f":"IF(参加申込書!D6=\"\",\"\",参加申込書!D6)","v":""}]
[null,"監督名",{"$f":"IF(参加申込書!D8=\"\",\"\",参加申込書!D8)","v":""}]
[null,"コーチ名",{"$f":"IF(参加申込書!D10=\"\",\"\",参加申込書!D10)","v":""}]
[]
[null,"シニア団体　リボン3・ボール2"]
[null,"選手名","ふりがな","生年月日","年令"]
[1]
[2]
[3]
[4]
[5]
["予"]
["予"]
[]
["※選手名、ふりがなは姓名の間を一文字空けてください。"]
["申込へ戻る"]